BEGIN:VCALENDAR
VERSION:2.0
PRODID:icalendar-ruby
CALSCALE:GREGORIAN
METHOD:PUBLISH
BEGIN:VTIMEZONE
TZID:Australia/Brisbane
BEGIN:STANDARD
DTSTART:19920301T020000
TZOFFSETFROM:+1100
TZOFFSETTO:+1000
TZNAME:AEST
END:STANDARD
END:VTIMEZONE
BEGIN:VEVENT
DTSTAMP:20190227T222015Z
UID:inspection_485887
DTSTART;TZID=Australia/Brisbane:20190302T094500
DTEND;TZID=Australia/Brisbane:20190302T101500
CLASS:PUBLIC
CREATED:20190227T110834
DESCRIPTION: 
LAST-MODIFIED:20190227T110834
LOCATION:70 Wau Rd\, DARRA QLD 4076\, Australia
SUMMARY:70 Wau Rd\,  Inspection
URL:http://www.4069realestate.com.au
END:VEVENT
END:VCALENDAR
