BEGIN:VCALENDAR
VERSION:2.0
PRODID:icalendar-ruby
CALSCALE:GREGORIAN
METHOD:PUBLISH
BEGIN:VTIMEZONE
TZID:Australia/Brisbane
BEGIN:STANDARD
DTSTART:19920301T020000
TZOFFSETFROM:+1100
TZOFFSETTO:+1000
TZNAME:AEST
END:STANDARD
END:VTIMEZONE
BEGIN:VEVENT
DTSTAMP:20190227T222014Z
UID:inspection_485879
DTSTART;TZID=Australia/Brisbane:20190302T090000
DTEND;TZID=Australia/Brisbane:20190302T093000
CLASS:PUBLIC
CREATED:20190227T110424
DESCRIPTION: 
LAST-MODIFIED:20190227T110424
LOCATION:48 Colwell Street\, OXLEY QLD 4075\, Australia
SUMMARY:48 Colwell Street\,  Inspection
URL:http://www.4069realestate.com.au
END:VEVENT
END:VCALENDAR
