BEGIN:VCALENDAR
VERSION:2.0
PRODID:icalendar-ruby
CALSCALE:GREGORIAN
METHOD:PUBLISH
BEGIN:VTIMEZONE
TZID:Australia/Brisbane
BEGIN:STANDARD
DTSTART:19920301T020000
TZOFFSETFROM:+1100
TZOFFSETTO:+1000
TZNAME:AEST
END:STANDARD
END:VTIMEZONE
BEGIN:VEVENT
DTSTAMP:20190227T222017Z
UID:inspection_485541
DTSTART;TZID=Australia/Brisbane:20190302T123000
DTEND;TZID=Australia/Brisbane:20190302T130000
CLASS:PUBLIC
CREATED:20190226T155622
DESCRIPTION: 
LAST-MODIFIED:20190226T155648
LOCATION:104 Fiona Street\, BELLBIRD PARK QLD 4300\, Australia
SUMMARY:104 Fiona Street\,  Inspection
URL:http://www.4069realestate.com.au
END:VEVENT
END:VCALENDAR
